BEGIN:VCALENDAR
VERSION:2.0
PRODID:-//Harzklub zweigverein Schulenberg - ECPv6.15.18//NONSGML v1.0//EN
CALSCALE:GREGORIAN
METHOD:PUBLISH
X-WR-CALNAME:Harzklub zweigverein Schulenberg
X-ORIGINAL-URL:https://www.harzklub-schulenberg.de
X-WR-CALDESC:Veranstaltungen für Harzklub zweigverein Schulenberg
REFRESH-INTERVAL;VALUE=DURATION:PT1H
X-Robots-Tag:noindex
X-PUBLISHED-TTL:PT1H
BEGIN:VTIMEZONE
TZID:Europe/Berlin
BEGIN:DAYLIGHT
TZOFFSETFROM:+0100
TZOFFSETTO:+0200
TZNAME:CEST
DTSTART:20220327T010000
END:DAYLIGHT
BEGIN:STANDARD
TZOFFSETFROM:+0200
TZOFFSETTO:+0100
TZNAME:CET
DTSTART:20221030T010000
END:STANDARD
BEGIN:DAYLIGHT
TZOFFSETFROM:+0100
TZOFFSETTO:+0200
TZNAME:CEST
DTSTART:20230326T010000
END:DAYLIGHT
BEGIN:STANDARD
TZOFFSETFROM:+0200
TZOFFSETTO:+0100
TZNAME:CET
DTSTART:20231029T010000
END:STANDARD
BEGIN:DAYLIGHT
TZOFFSETFROM:+0100
TZOFFSETTO:+0200
TZNAME:CEST
DTSTART:20240331T010000
END:DAYLIGHT
BEGIN:STANDARD
TZOFFSETFROM:+0200
TZOFFSETTO:+0100
TZNAME:CET
DTSTART:20241027T010000
END:STANDARD
END:VTIMEZONE
BEGIN:VEVENT
DTSTART;TZID=Europe/Berlin:20230716T130000
DTEND;TZID=Europe/Berlin:20230716T170000
DTSTAMP:20260420T181451
CREATED:20230411T072913Z
LAST-MODIFIED:20230411T072913Z
UID:1943-1689512400-1689526800@www.harzklub-schulenberg.de
SUMMARY:Harzer Heimattag in Bad Harzburg
DESCRIPTION:
URL:https://www.harzklub-schulenberg.de/termine/harzer-heimattag-in-bad-harzburg/
CATEGORIES:Heimatgruppe
ATTACH;FMTTYPE=image/webp:https://www.harzklub-schulenberg.de/wp-content/uploads/2022/11/heimatgruppe-scaled.webp
END:VEVENT
END:VCALENDAR